BEGIN:VCALENDAR
VERSION:2.0
METHOD:PUBLISH
PRODID:-//imacoda.com//SPD-Web-O-Mat//EN
CALSCALE:GREGORIAN
BEGIN:VTIMEZONE
TZID:Europe/Berlin
BEGIN:DAYLIGHT
TZOFFSETFROM:+0100
RRULE:FREQ=YEARLY;BYMONTH=3;BYDAY=-1SU
DTSTART:19810329T020000
TZNAME:MESZ
TZOFFSETTO:+0200
END:DAYLIGHT
BEGIN:STANDARD
TZOFFSETFROM:+0200
RRULE:FREQ=YEARLY;BYMONTH=10;BYDAY=-1SU
DTSTART:19961027T030000
TZNAME:MEZ
TZOFFSETTO:+0100
END:STANDARD
END:VTIMEZONE
BEGIN:VEVENT
UID:20190210T125417Z-00000428439-LULU@www.bayernspd.de
CREATED:20190210T125417Z
LAST-MODIFIED:20191004T174628Z
DTSTAMP:20191004T174628Z
TRANSP:TRANSPARENT
DTSTART;TZID=Europe/Berlin:20191012T190000
DTEND;TZID=Europe/Berlin:20191012T210000
SUMMARY:Nominierungsveranstaltung Bürgermeisterkandidat*in
LOCATION:Gasthaus Loy\, "Zur Linde"\, Unterwurmbach
DESCRIPTION:Termin im Web (SPD Gunzenhausen):\nhttps://spdgunzenhausen.d
 e/termine/?id=428439
END:VEVENT
END:VCALENDAR
